BEGIN:VCALENDAR
VERSION:2.0
PRODID:-//Teach To Each - ECPv4.7.3//NONSGML v1.0//EN
CALSCALE:GREGORIAN
METHOD:PUBLISH
X-WR-CALNAME:Teach To Each
X-ORIGINAL-URL:https://www.teachtoeach.co.in
X-WR-CALDESC:Events for Teach To Each
BEGIN:VEVENT
DTSTART;VALUE=DATE:20260101
DTEND;VALUE=DATE:20260119
DTSTAMP:20260421T184912
CREATED:20251227T081016Z
LAST-MODIFIED:20251227T081306Z
UID:1768-1767225600-1768780799@www.teachtoeach.co.in
SUMMARY:टीच टु ईच बालिका मैराथन 2026
DESCRIPTION:पूर्व वर्ष की भांति इस वर्ष भी टीच टु ईच रीवा मैराथन (रन फॉर गर्ल एजुकेशन) का आयोजन 19 जनवरी 2025 को सुबह 6:00 बजे से यूनिवर्सिटी गेट से कलेक्ट्रेट तक होगी | \nरेवांचल में बालिकाओं के गुणवत्तापूर्ण शिक्षा के लिए टीटी प्रतिबद्ध है इस समय 46 केंद्रों पर 150 बालिकाओं सहित लगभग 700 बच्चे पढ़ रहे हैं यह मैराथन रीवा क्षेत्र में बालिकाओं की शिक्षा के लिए समर्पित है | \nकार्यक्रम के मुख्या अतिथि रीवा संभाग आयुक्त श्री बाबू सिंह जामोद जी होंगे | \nरेवांचल की सफल महिलाओं को विशिष्ट अतिथियों के रूप में आमंत्रित किया जाएगा | \nमैराथन के नियम:- \n\nकोई भी 15 से 24 वर्ष की बालिका या महिला जो शारीरिक और मानसिक रूप से स्वस्थ हो इसमें भाग ले  सकेगी |\nरजिस्ट्रेशन 01 जनवरी से  18 जनवरी 2026 तक होंगे |\nसभी प्रतिभागियों को सुबह 7 बजे से पहले APS  University गेट पर पहुंचना अनिवार्य है|\nकोई भी प्रतिभागी बीच रास्ते से नहीं दौड़ेगा|\nरजिस्ट्रेशन के लिए –\n\nविहान हॉस्पिटल एंड रिसर्च सेंटर\, लैंडमार्क होटल के पास\, रतहरा – रीवा\, मो. : 07662-649767\nविजय कंप्यूटर सेंटर\, रामगोविंद  पैलेस\, सिरमौर चौराहा – रीवा\, मो. : 09039647076\nमनोज मेडिकल स्टोर\, सिरमौर चौराहा – रीवा\, मो. : 9755282938\nअशोक ई-पंजीयन केंद्र\, कलेक्ट्रेट परिसर – रीवा\, मो. : 9993828080\nसमग्र शिक्षा सोल्युशन\, सेंट्रल लाइब्रेरी के सामने\, जय स्तम्भ – रीवा\, मो. : 8085717889  \nमहामाया मेडिकल हाल एवं एजेंसी\, फरेंदा हाउस विशाल मेगा मार्ट के पास\, उर्राहट – रीवा\, मो. : 9518258592\nऑनलाइन रजिस्ट्रेशन के www.teachtoeach.co.in\n\n\nरजिस्ट्रेशन की फीस ₹100 होगी|\n सभी को टी-शर्ट संस्था की तरफ से दिया जाएगा |\n प्रथम पुरस्कार ₹10000\, द्वितीय पुरस्कार 5000\, तृतीय पुरस्कार ₹2000\, 4th to 10th ₹1000 और 11th to 20th ₹500 दिया जाएगा |\nप्रथम 500 बालिकाओं का ही रजिस्ट्रेशन हो पायेगा इसलिए जल्द रजिस्ट्रेशन करवाएं|  \nरजिस्ट्रेशन के लिए आई डी प्रूफ और पासपोर्ट फोटो लाना अनिवार्य है| \nसभी प्रतिभागियों को निशुल्क टी-शर्ट\, प्रमाण पत्र और TEACH TO EACH का पैड प्रदान किया जायेगा|  \n\n
URL:https://www.teachtoeach.co.in/event/%e0%a4%9f%e0%a5%80%e0%a4%9a-%e0%a4%9f%e0%a5%81-%e0%a4%88%e0%a4%9a-%e0%a4%ac%e0%a4%be%e0%a4%b2%e0%a4%bf%e0%a4%95%e0%a4%be-%e0%a4%ae%e0%a5%88%e0%a4%b0%e0%a4%be%e0%a4%a5%e0%a4%a8-2026/
LOCATION:Rewa\, APS University Gate\, Rewa\, Madhya Pradesh\, 486001\, India
CATEGORIES:Girls Marathan
END:VEVENT
END:VCALENDAR