BEGIN:VCALENDAR
VERSION:2.0
PRODID:-//Teach To Each - ECPv4.7.3//NONSGML v1.0//EN
CALSCALE:GREGORIAN
METHOD:PUBLISH
X-WR-CALNAME:Teach To Each
X-ORIGINAL-URL:https://www.teachtoeach.co.in
X-WR-CALDESC:Events for Teach To Each
BEGIN:VEVENT
DTSTART;VALUE=DATE:20200105
DTEND;VALUE=DATE:20200106
DTSTAMP:20260422T011905
CREATED:20191220T071419Z
LAST-MODIFIED:20191222T052357Z
UID:1582-1578182400-1578268799@www.teachtoeach.co.in
SUMMARY:टीच टु ईच बालिका मैराथन 2020
DESCRIPTION:Note: Donate 100 INR and take receipt to F-13 doctors colony from 2nd Jan to 4th Jan for T-Shirt or you can also collect in the morning of 5th Jan at APS University Gate at 5 AM. \nपूर्व वर्ष की भांति इस वर्ष भी टीच टु ईच रीवा मैराथन (रन फॉर गर्ल एजुकेशन) का आयोजन 5 जनवरी 2020 को सुबह 6:00 बजे से यूनिवर्सिटी गेट से कलेक्ट्रेट तक होगी | \nरेवांचल में बालिकाओं के गुणवत्तापूर्ण शिक्षा के लिए टीटी प्रतिबद्ध है इस समय 25 केंद्रों पर 150 बालिकाओं सहित लगभग 300 बच्चे पढ़ रहे हैं यह मैराथन रीवा क्षेत्र में बालिकाओं की शिक्षा के लिए समर्पित है | \nकार्यक्रम के मुख्या अतिथि रीवा संभाग आयुक्त डॉ अशोक कुमार भार्गव जी होंगे | \nरेवांचल की सफल महिलाओं को विशिष्ट अतिथियों के रूप में आमंत्रित किया जाएगा | \nमैराथन के नियम:- \n\nकोई भी 15 से 40 वर्ष की बालिका या महिला जो शारीरिक और मानसिक रूप से स्वस्थ हो इसमें भाग ले  सकेगी |\nरजिस्ट्रेशन 15 दिसंबर से 31 दिसंबर 2019 तक होंगे |\nकोई भी प्रतिभागी बीच रास्ते से नहीं दौड़ सकेगा |\n\n
URL:https://www.teachtoeach.co.in/event/%e0%a4%9f%e0%a5%80%e0%a4%9a-%e0%a4%9f%e0%a5%81-%e0%a4%88%e0%a4%9a-%e0%a4%ac%e0%a4%be%e0%a4%b2%e0%a4%bf%e0%a4%95%e0%a4%be-%e0%a4%ae%e0%a5%88%e0%a4%b0%e0%a4%be%e0%a4%a5%e0%a4%a8-2020/
LOCATION:Rewa\, APS University Gate\, Rewa\, Madhya Pradesh\, 486001\, India
CATEGORIES:Girls Marathan
ATTACH;FMTTYPE=image/jpeg:https://www.teachtoeach.co.in/wp-content/uploads/2019/12/Marathon.jpg
END:VEVENT
END:VCALENDAR